Package: ChIPXpress Version: 1.50.0 Command: /home/biocbuild/R/R/bin/R CMD INSTALL ChIPXpress StartedAt: 2025-03-31 20:58:42 -0000 (Mon, 31 Mar 2025) EndedAt: 2025-03-31 20:58:42 -0000 (Mon, 31 Mar 2025) EllapsedTime: 0.4 seconds RetCode: 1 Status: ERROR