Package: ChIPXpress Version: 1.50.0 Command: /home/biocbuild/R/R/bin/R CMD build --keep-empty-dirs --no-resave-data ChIPXpress StartedAt: 2025-03-31 22:25:14 -0000 (Mon, 31 Mar 2025) EndedAt: 2025-03-31 22:25:15 -0000 (Mon, 31 Mar 2025) EllapsedTime: 1.0 seconds RetCode: 1 Status: ERROR PackageFile: None PackageFileSize: NA