Package: ChIPXpress Version: 1.50.0 Command: /Library/Frameworks/R.framework/Resources/bin/R CMD INSTALL ChIPXpress StartedAt: 2025-03-31 15:33:56 -0400 (Mon, 31 Mar 2025) EndedAt: 2025-03-31 15:34:54 -0400 (Mon, 31 Mar 2025) EllapsedTime: 57.9 seconds RetCode: 0 Status: OK