Package: ChIPXpress Version: 1.50.0 Command: /Library/Frameworks/R.framework/Resources/bin/R CMD build --keep-empty-dirs --no-resave-data ChIPXpress StartedAt: 2025-03-31 17:39:08 -0400 (Mon, 31 Mar 2025) EndedAt: 2025-03-31 17:40:52 -0400 (Mon, 31 Mar 2025) EllapsedTime: 104.0 seconds RetCode: 0 Status: OK PackageFile: ChIPXpress_1.50.0.tar.gz PackageFileSize: 447.9 KiB