Package: ChIPXpress Version: 1.50.0 Command: rm -rf ChIPXpress.buildbin-libdir && mkdir ChIPXpress.buildbin-libdir && /Users/biocbuild/BBS/utils/build-universal.sh ChIPXpress_1.50.0.tar.gz /Library/Frameworks/R.framework/Resources/bin/R ChIPXpress.buildbin-libdir StartedAt: 2025-04-01 11:35:42 -0400 (Tue, 01 Apr 2025) EndedAt: 2025-04-01 11:36:46 -0400 (Tue, 01 Apr 2025) EllapsedTime: 64.4 seconds RetCode: 0 Status: OK PackageFile: ChIPXpress_1.50.0.tgz PackageFileSize: 471.4 KiB