Package: ChIPQC Version: 1.42.0 Command: /home/biocbuild/R/R/bin/R CMD check --install=check:ChIPQC.install-out.txt --library=/home/biocbuild/R/R/site-library --no-vignettes --timings ChIPQC_1.42.0.tar.gz StartedAt: 2025-04-01 05:00:24 -0000 (Tue, 01 Apr 2025) EndedAt: 2025-04-01 05:08:37 -0000 (Tue, 01 Apr 2025) EllapsedTime: 492.4 seconds RetCode: 0 Status: OK CheckDir: ChIPQC.Rcheck Warnings: 0