Package: ChIPQC Version: 1.42.0 Command: /home/biocbuild/R/R/bin/R CMD build --keep-empty-dirs --no-resave-data ChIPQC StartedAt: 2025-03-31 22:23:08 -0000 (Mon, 31 Mar 2025) EndedAt: 2025-03-31 22:24:45 -0000 (Mon, 31 Mar 2025) EllapsedTime: 97.0 seconds RetCode: 0 Status: OK PackageFile: ChIPQC_1.42.0.tar.gz PackageFileSize: 1.516 MiB