Package: ChIPComp Version: 1.36.0 Command: /home/biocbuild/R/R/bin/R CMD check --install=check:ChIPComp.install-out.txt --library=/home/biocbuild/R/R/site-library --no-vignettes --timings ChIPComp_1.36.0.tar.gz StartedAt: 2025-04-01 04:59:00 -0000 (Tue, 01 Apr 2025) EndedAt: 2025-04-01 05:03:47 -0000 (Tue, 01 Apr 2025) EllapsedTime: 287.2 seconds RetCode: 0 Status: OK CheckDir: ChIPComp.Rcheck Warnings: 0