Package: ChIPComp Version: 1.36.0 Command: rm -rf ChIPComp.buildbin-libdir && mkdir ChIPComp.buildbin-libdir && /Users/biocbuild/BBS/utils/build-universal.sh ChIPComp_1.36.0.tar.gz /Library/Frameworks/R.framework/Resources/bin/R ChIPComp.buildbin-libdir StartedAt: 2025-04-01 11:34:59 -0400 (Tue, 01 Apr 2025) EndedAt: 2025-04-01 11:36:08 -0400 (Tue, 01 Apr 2025) EllapsedTime: 69.2 seconds RetCode: 0 Status: OK PackageFile: ChIPComp_1.36.0.tgz PackageFileSize: 637.3 KiB