Package: ChIPComp Version: 1.36.0 Command: /Library/Frameworks/R.framework/Resources/bin/R CMD check --install=check:ChIPComp.install-out.txt --library=/Library/Frameworks/R.framework/Resources/library --no-vignettes --timings ChIPComp_1.36.0.tar.gz StartedAt: 2025-04-01 13:50:53 -0400 (Tue, 01 Apr 2025) EndedAt: 2025-04-01 13:55:46 -0400 (Tue, 01 Apr 2025) EllapsedTime: 293.5 seconds RetCode: 0 Status: OK CheckDir: ChIPComp.Rcheck Warnings: 0