Package: ChIPComp Version: 1.36.0 Command: rm -rf ChIPComp.buildbin-libdir && mkdir ChIPComp.buildbin-libdir && /Users/biocbuild/BBS/utils/build-universal.sh ChIPComp_1.36.0.tar.gz /Library/Frameworks/R.framework/Resources/bin/R ChIPComp.buildbin-libdir StartedAt: 2025-04-02 13:41:09 -0400 (Wed, 02 Apr 2025) EndedAt: 2025-04-02 13:41:51 -0400 (Wed, 02 Apr 2025) EllapsedTime: 41.7 seconds RetCode: 0 Status: OK PackageFile: ChIPComp_1.36.0.tgz PackageFileSize: 637.2 KiB