Package: CexoR Version: 1.44.0 Command: chmod a+r CexoR -R && F:\biocbuild\bbs-3.20-bioc\R\bin\R.exe CMD build --keep-empty-dirs --no-resave-data CexoR StartedAt: 2025-03-31 17:54:10 -0400 (Mon, 31 Mar 2025) EndedAt: 2025-03-31 17:55:27 -0400 (Mon, 31 Mar 2025) EllapsedTime: 76.6 seconds RetCode: 0 Status: OK PackageFile: CexoR_1.44.0.tar.gz PackageFileSize: 1.661 MiB