Package: Cepo Version: 1.12.0 Command: /Library/Frameworks/R.framework/Resources/bin/R CMD check --install=check:Cepo.install-out.txt --library=/Library/Frameworks/R.framework/Resources/library --no-vignettes --timings Cepo_1.12.0.tar.gz StartedAt: 2025-04-01 13:39:05 -0400 (Tue, 01 Apr 2025) EndedAt: 2025-04-01 13:43:49 -0400 (Tue, 01 Apr 2025) EllapsedTime: 284.6 seconds RetCode: 0 Status: OK CheckDir: Cepo.Rcheck Warnings: 0