Package: CelliD Version: 1.14.0 Command: /Library/Frameworks/R.framework/Resources/bin/R CMD check --install=check:CelliD.install-out.txt --library=/Library/Frameworks/R.framework/Resources/library --no-vignettes --timings CelliD_1.14.0.tar.gz StartedAt: 2025-04-01 00:28:04 -0400 (Tue, 01 Apr 2025) EndedAt: 2025-04-01 00:39:09 -0400 (Tue, 01 Apr 2025) EllapsedTime: 665.2 seconds RetCode: 0 Status: WARNINGS CheckDir: CelliD.Rcheck Warnings: 1