Package: CellaRepertorium Version: 1.16.0 Command: F:\biocbuild\bbs-3.20-bioc\R\bin\R.exe CMD INSTALL CellaRepertorium StartedAt: 2025-03-31 16:06:30 -0400 (Mon, 31 Mar 2025) EndedAt: 2025-03-31 16:08:47 -0400 (Mon, 31 Mar 2025) EllapsedTime: 136.9 seconds RetCode: 0 Status: OK