Package: CellaRepertorium Version: 1.16.0 Command: chmod a+r CellaRepertorium -R && F:\biocbuild\bbs-3.20-bioc\R\bin\R.exe CMD build --keep-empty-dirs --no-resave-data CellaRepertorium StartedAt: 2025-03-31 17:50:33 -0400 (Mon, 31 Mar 2025) EndedAt: 2025-03-31 17:52:43 -0400 (Mon, 31 Mar 2025) EllapsedTime: 129.8 seconds RetCode: 1 Status: ERROR PackageFile: None PackageFileSize: NA