Package: CellTrails Version: 1.24.0 Command: /home/biocbuild/R/R/bin/R CMD INSTALL CellTrails StartedAt: 2025-03-31 20:23:49 -0000 (Mon, 31 Mar 2025) EndedAt: 2025-03-31 20:24:28 -0000 (Mon, 31 Mar 2025) EllapsedTime: 39.3 seconds RetCode: 0 Status: OK