Package: CellTrails Version: 1.24.0 Command: /Library/Frameworks/R.framework/Resources/bin/R CMD INSTALL CellTrails StartedAt: 2025-03-31 15:20:56 -0400 (Mon, 31 Mar 2025) EndedAt: 2025-03-31 15:21:59 -0400 (Mon, 31 Mar 2025) EllapsedTime: 63.8 seconds RetCode: 0 Status: OK