Package: CellNOptR Version: 1.52.0 Command: rm -rf CellNOptR.buildbin-libdir && mkdir CellNOptR.buildbin-libdir && F:\biocbuild\bbs-3.20-bioc\R\bin\R.exe CMD INSTALL --build --library=CellNOptR.buildbin-libdir CellNOptR_1.52.0.tar.gz StartedAt: 2025-04-01 07:51:30 -0400 (Tue, 01 Apr 2025) EndedAt: 2025-04-01 07:53:01 -0400 (Tue, 01 Apr 2025) EllapsedTime: 90.7 seconds RetCode: 0 Status: OK PackageFile: CellNOptR_1.52.0.zip PackageFileSize: 2.561 MiB