Package: CellMixS Version: 1.22.0 Command: /home/biocbuild/R/R/bin/R CMD check --install=check:CellMixS.install-out.txt --library=/home/biocbuild/R/R/site-library --no-vignettes --timings CellMixS_1.22.0.tar.gz StartedAt: 2025-04-01 04:53:56 -0000 (Tue, 01 Apr 2025) EndedAt: 2025-04-01 04:58:32 -0000 (Tue, 01 Apr 2025) EllapsedTime: 276.2 seconds RetCode: 0 Status: OK CheckDir: CellMixS.Rcheck Warnings: 0