Package: CellMapper Version: 1.32.0 Command: /home/biocbuild/R/R/bin/R CMD build --keep-empty-dirs --no-resave-data CellMapper StartedAt: 2025-03-31 22:12:26 -0000 (Mon, 31 Mar 2025) EndedAt: 2025-03-31 22:36:18 -0000 (Mon, 31 Mar 2025) EllapsedTime: 1431.7 seconds RetCode: 0 Status: OK PackageFile: CellMapper_1.32.0.tar.gz PackageFileSize: 198.7 KiB