Package: CellMapper Version: 1.32.0 Command: chmod a+r CellMapper -R && F:\biocbuild\bbs-3.20-bioc\R\bin\R.exe CMD build --keep-empty-dirs --no-resave-data CellMapper StartedAt: 2025-03-31 17:51:47 -0400 (Mon, 31 Mar 2025) EndedAt: 2025-03-31 17:57:05 -0400 (Mon, 31 Mar 2025) EllapsedTime: 317.6 seconds RetCode: 0 Status: OK PackageFile: CellMapper_1.32.0.tar.gz PackageFileSize: 206 KiB