Package: CellMapper Version: 1.32.0 Command: /Library/Frameworks/R.framework/Resources/bin/R CMD build --keep-empty-dirs --no-resave-data CellMapper StartedAt: 2024-11-19 16:13:18 -0500 (Tue, 19 Nov 2024) EndedAt: 2024-11-19 16:15:18 -0500 (Tue, 19 Nov 2024) EllapsedTime: 119.5 seconds RetCode: 0 Status: OK PackageFile: CellMapper_1.32.0.tar.gz PackageFileSize: 206.3 KiB