Package: CellBarcode Version: 1.12.0 Command: /home/biocbuild/R/R/bin/R CMD check --install=check:CellBarcode.install-out.txt --library=/home/biocbuild/R/R/site-library --no-vignettes --timings CellBarcode_1.12.0.tar.gz StartedAt: 2025-04-01 04:52:00 -0000 (Tue, 01 Apr 2025) EndedAt: 2025-04-01 04:56:54 -0000 (Tue, 01 Apr 2025) EllapsedTime: 294.3 seconds RetCode: 0 Status: OK CheckDir: CellBarcode.Rcheck Warnings: 0