Package: CeTF Version: 1.18.0 Command: /home/biocbuild/R/R/bin/R CMD INSTALL CeTF StartedAt: 2025-03-31 21:10:15 -0000 (Mon, 31 Mar 2025) EndedAt: 2025-03-31 21:11:33 -0000 (Mon, 31 Mar 2025) EllapsedTime: 78.0 seconds RetCode: 0 Status: OK