Package: CeTF Version: 1.18.0 Command: /Library/Frameworks/R.framework/Resources/bin/R CMD build --keep-empty-dirs --no-resave-data CeTF StartedAt: 2025-03-31 20:19:38 -0400 (Mon, 31 Mar 2025) EndedAt: 2025-03-31 20:22:52 -0400 (Mon, 31 Mar 2025) EllapsedTime: 194.5 seconds RetCode: 0 Status: OK PackageFile: CeTF_1.18.0.tar.gz PackageFileSize: 4.087 MiB