Package: CeTF Version: 1.18.0 Command: rm -rf CeTF.buildbin-libdir && mkdir CeTF.buildbin-libdir && /Users/biocbuild/BBS/utils/build-universal.sh CeTF_1.18.0.tar.gz /Library/Frameworks/R.framework/Resources/bin/R CeTF.buildbin-libdir StartedAt: 2025-04-02 13:39:40 -0400 (Wed, 02 Apr 2025) EndedAt: 2025-04-02 13:40:49 -0400 (Wed, 02 Apr 2025) EllapsedTime: 68.6 seconds RetCode: 0 Status: OK PackageFile: CeTF_1.18.0.tgz PackageFileSize: 4.173 MiB