| Back to Multiple platform build/check report for BioC 3.20: simplified long |
|
This page was generated on 2025-04-02 19:29 -0400 (Wed, 02 Apr 2025).
| Hostname | OS | Arch (*) | R version | Installed pkgs |
|---|---|---|---|---|
| nebbiolo2 | Linux (Ubuntu 24.04.1 LTS) | x86_64 | 4.4.3 (2025-02-28) -- "Trophy Case" | 4764 |
| palomino8 | Windows Server 2022 Datacenter | x64 | 4.4.3 (2025-02-28 ucrt) -- "Trophy Case" | 4495 |
| merida1 | macOS 12.7.5 Monterey | x86_64 | 4.4.3 (2025-02-28) -- "Trophy Case" | 4522 |
| kjohnson1 | macOS 13.6.6 Ventura | arm64 | 4.4.3 (2025-02-28) -- "Trophy Case" | 4449 |
| taishan | Linux (openEuler 24.03 LTS) | aarch64 | 4.4.3 (2025-02-28) -- "Trophy Case" | 4426 |
| Click on any hostname to see more info about the system (e.g. compilers) (*) as reported by 'uname -p', except on Windows and Mac OS X | ||||
| Package 281/2289 | Hostname | OS / Arch | INSTALL | BUILD | CHECK | BUILD BIN | ||||||||
| CausalR 1.38.0 (landing page) Glyn Bradley
| nebbiolo2 | Linux (Ubuntu 24.04.1 LTS) / x86_64 | OK | OK | OK | |||||||||
| palomino8 | Windows Server 2022 Datacenter / x64 | OK | OK | OK | OK | |||||||||
| merida1 | macOS 12.7.5 Monterey / x86_64 | OK | OK | OK | OK | |||||||||
| kjohnson1 | macOS 13.6.6 Ventura / arm64 | OK | OK | OK | OK | |||||||||
| taishan | Linux (openEuler 24.03 LTS) / aarch64 | OK | OK | OK | ||||||||||
|
To the developers/maintainers of the CausalR package: - Allow up to 24 hours (and sometimes 48 hours) for your latest push to git@git.bioconductor.org:packages/CausalR.git to reflect on this report. See Troubleshooting Build Report for more information. - Use the following Renviron settings to reproduce errors and warnings. - If 'R CMD check' started to fail recently on the Linux builder(s) over a missing dependency, add the missing dependency to 'Suggests:' in your DESCRIPTION file. See Renviron.bioc for more information. |
| Package: CausalR |
| Version: 1.38.0 |
| Command: F:\biocbuild\bbs-3.20-bioc\R\bin\R.exe CMD check --no-multiarch --install=check:CausalR.install-out.txt --library=F:\biocbuild\bbs-3.20-bioc\R\library --no-vignettes --timings CausalR_1.38.0.tar.gz |
| StartedAt: 2025-03-31 23:44:47 -0400 (Mon, 31 Mar 2025) |
| EndedAt: 2025-03-31 23:45:44 -0400 (Mon, 31 Mar 2025) |
| EllapsedTime: 57.0 seconds |
| RetCode: 0 |
| Status: OK |
| CheckDir: CausalR.Rcheck |
| Warnings: 0 |
##############################################################################
##############################################################################
###
### Running command:
###
### F:\biocbuild\bbs-3.20-bioc\R\bin\R.exe CMD check --no-multiarch --install=check:CausalR.install-out.txt --library=F:\biocbuild\bbs-3.20-bioc\R\library --no-vignettes --timings CausalR_1.38.0.tar.gz
###
##############################################################################
##############################################################################
* using log directory 'F:/biocbuild/bbs-3.20-bioc/meat/CausalR.Rcheck'
* using R version 4.4.3 (2025-02-28 ucrt)
* using platform: x86_64-w64-mingw32
* R was compiled by
gcc.exe (GCC) 13.3.0
GNU Fortran (GCC) 13.3.0
* running under: Windows Server 2022 x64 (build 20348)
* using session charset: UTF-8
* using option '--no-vignettes'
* checking for file 'CausalR/DESCRIPTION' ... OK
* checking extension type ... Package
* this is package 'CausalR' version '1.38.0'
* checking package namespace information ... OK
* checking package dependencies ... OK
* checking if this is a source package ... OK
* checking if there is a namespace ... OK
* checking for hidden files and directories ... OK
* checking for portable file names ... OK
* checking whether package 'CausalR' can be installed ... OK
* checking installed package size ... OK
* checking package directory ... OK
* checking 'build' directory ... OK
* checking DESCRIPTION meta-information ... OK
* checking top-level files ... OK
* checking for left-over files ... OK
* checking index information ... OK
* checking package subdirectories ... OK
* checking code files for non-ASCII characters ... OK
* checking R files for syntax errors ... OK
* checking whether the package can be loaded ... OK
* checking whether the package can be loaded with stated dependencies ... OK
* checking whether the package can be unloaded cleanly ... OK
* checking whether the namespace can be loaded with stated dependencies ... OK
* checking whether the namespace can be unloaded cleanly ... OK
* checking dependencies in R code ... OK
* checking S3 generic/method consistency ... OK
* checking replacement functions ... OK
* checking foreign function calls ... OK
* checking R code for possible problems ... OK
* checking Rd files ... OK
* checking Rd metadata ... OK
* checking Rd cross-references ... OK
* checking for missing documentation entries ... OK
* checking for code/documentation mismatches ... OK
* checking Rd \usage sections ... OK
* checking Rd contents ... OK
* checking for unstated dependencies in examples ... OK
* checking sizes of PDF files under 'inst/doc' ... OK
* checking files in 'vignettes' ... NOTE
The following directory looks like a leftover from 'knitr':
'figure'
Please remove from your package.
* checking examples ... OK
* checking for unstated dependencies in 'tests' ... OK
* checking tests ...
Running 'runTests.R'
OK
* checking for unstated dependencies in vignettes ... OK
* checking package vignettes ... OK
* checking running R code from vignettes ... SKIPPED
* checking re-building of vignette outputs ... SKIPPED
* checking PDF version of manual ... OK
* DONE
Status: 1 NOTE
See
'F:/biocbuild/bbs-3.20-bioc/meat/CausalR.Rcheck/00check.log'
for details.
CausalR.Rcheck/00install.out
############################################################################## ############################################################################## ### ### Running command: ### ### F:\biocbuild\bbs-3.20-bioc\R\bin\R.exe CMD INSTALL CausalR ### ############################################################################## ############################################################################## * installing to library 'F:/biocbuild/bbs-3.20-bioc/R/library' * installing *source* package 'CausalR' ... ** using staged installation ** R ** inst ** byte-compile and prepare package for lazy loading ** help *** installing help indices ** building package indices ** installing vignettes ** testing if installed package can be loaded from temporary location ** testing if installed package can be loaded from final location ** testing if installed package keeps a record of temporary installation path * DONE (CausalR)
CausalR.Rcheck/tests/runTests.Rout
R version 4.4.3 (2025-02-28 ucrt) -- "Trophy Case"
Copyright (C) 2025 The R Foundation for Statistical Computing
Platform: x86_64-w64-mingw32/x64
R is free software and comes with ABSOLUTELY NO WARRANTY.
You are welcome to redistribute it under certain conditions.
Type 'license()' or 'licence()' for distribution details.
R is a collaborative project with many contributors.
Type 'contributors()' for more information and
'citation()' on how to cite R or R packages in publications.
Type 'demo()' for some demos, 'help()' for on-line help, or
'help.start()' for an HTML browser interface to help.
Type 'q()' to quit R.
> # Make sure that the igraph package has been loaded
>
> library(igraph)
Attaching package: 'igraph'
The following objects are masked from 'package:stats':
decompose, spectrum
The following object is masked from 'package:base':
union
>
> BiocGenerics:::testPackage("CausalR")
[1] "File read complete - read in 3 lines. Now constructing network"
[1] "Network has been created - now adding edge properties"
[1] "Added weights to edges"
[1] "File read complete - read in 2 lines. Now constructing network"
[1] "Network has been created - now adding edge properties"
[1] "Added weights to edges"
[1] "File read complete - read in 2 lines. Now constructing network"
[1] "Network has been created - now adding edge properties"
[1] "Added weights to edges"
[1] "File read complete - read in 4 lines. Now constructing network"
[1] "Network has been created - now adding edge properties"
[1] "Added weights to edges"
[1] "File read complete - read in 4 lines. Now constructing network"
[1] "Network has been created - now adding edge properties"
[1] "Added weights to edges"
[1] "The values in the second column do not match what is expected. They should be (+)1, 0 or -1"
[1] "The experimental data read in didn't have two columns"
Number of Nodes to analyse: 3
Number of Nodes to analyse: 1
Number of Nodes to analyse: 1
Parallel processing. Number of cores: 2
Number of Nodes to analyse: 3
Number of Nodes to analyse: 3
Parallel processing. Number of cores: 2
Number of Nodes to analyse: 3
Number of Nodes to analyse: 3
Parallel processing. Number of cores: 2
Number of Nodes to analyse: 3
Number of Nodes to analyse: 3
Number of Nodes to analyse: 3
Parallel processing. Number of cores: 2
Number of Nodes to analyse: 3
Number of Nodes to analyse: 3
Parallel processing. Number of cores: 2
Number of Nodes to analyse: 3
Number of Nodes to analyse: 3
Parallel processing. Number of cores: 2
Number of Nodes to analyse: 1
Number of Nodes to analyse: 1
Parallel processing. Number of cores: 2
Number of Nodes to analyse: 1
Number of Nodes to analyse: 1
Parallel processing. Number of cores: 2
Number of Nodes to analyse: 2
Number of Nodes to analyse: 2
Parallel processing. Number of cores: 2
Number of Nodes to analyse: 1
Number of Nodes to analyse: 1
Parallel processing. Number of cores: 2
Number of Nodes to analyse: 1
Number of Nodes to analyse: 1
Parallel processing. Number of cores: 2
Number of Nodes to analyse: 2
Number of Nodes to analyse: 2
Parallel processing. Number of cores: 2
Number of Nodes to analyse: 2
Number of Nodes to analyse: 2
Parallel processing. Number of cores: 2
Number of Nodes to analyse: 1
Number of Nodes to analyse: 1
Parallel processing. Number of cores: 2
Number of Nodes to analyse: 1
Number of Nodes to analyse: 1
Parallel processing. Number of cores: 2
Number of Nodes to analyse: 3
Number of Nodes to analyse: 3
Parallel processing. Number of cores: 2
[1] "File read complete - read in 2 lines. Now constructing network"
[1] "Network has been created - now adding edge properties"
[1] "Added weights to edges"
Writing sif file to: F:/biocbuild/bbs-3.20-bioc/tmpdir/Rtmpy0sPKL-763888722/corExplainedNodes-file28108f7750.sif
Writing annotation file to: F:/biocbuild/bbs-3.20-bioc/tmpdir/Rtmpy0sPKL-763888722/corExplainedNodes-file28108f7750_anno.txt
corExplainedNodes
Node0 Activates Node1
Node0 Inhibits Node2
Node1 Activates Node3
Node2 Activates Node6
Node2 Activates Node7
Writing sif file to: F:/biocbuild/bbs-3.20-bioc/tmpdir/Rtmpy0sPKL-35678560/corExplainedNodes-testNetwork1-testData1-delta2-Node0+.sif
Writing annotation file to: F:/biocbuild/bbs-3.20-bioc/tmpdir/Rtmpy0sPKL-35678560/corExplainedNodes-testNetwork1-testData1-delta2-Node0+_anno.txt
corExplainedNodes
Node0 Activates Node1
Node0 Inhibits Node2
Node1 Activates Node3
Node2 Activates Node6
Node2 Activates Node7
Writing sif file to: F:/biocbuild/bbs-3.20-bioc/tmpdir/Rtmpy0sPKL-639596622/corExplainedNodes-testNetwork1-testData1-delta2-Node0+.sif
Writing annotation file to: F:/biocbuild/bbs-3.20-bioc/tmpdir/Rtmpy0sPKL-639596622/corExplainedNodes-testNetwork1-testData1-delta2-Node0+_anno.txt
corExplainedNodes
Node0 Activates Node1
Node0 Inhibits Node2
Node1 Activates Node3
Node2 Activates Node6
Node2 Activates Node7
Writing sif file to: F:/biocbuild/bbs-3.20-bioc/tmpdir/Rtmpy0sPKL-639596622/incorExplainedNodes-testNetwork1-testData1-delta2-Node0+.sif
Writing annotation file to: F:/biocbuild/bbs-3.20-bioc/tmpdir/Rtmpy0sPKL-639596622/incorExplainedNodes-testNetwork1-testData1-delta2-Node0+_anno.txt
incorExplainedNodes
Node0 Inhibits Node2
Writing sif file to: F:/biocbuild/bbs-3.20-bioc/tmpdir/Rtmpy0sPKL-639596622/ambExplainedNodes-testNetwork1-testData1-delta2-Node0+.sif
Writing annotation file to: F:/biocbuild/bbs-3.20-bioc/tmpdir/Rtmpy0sPKL-639596622/ambExplainedNodes-testNetwork1-testData1-delta2-Node0+_anno.txt
ambExplainedNodes
Node0 Activates Node1
Node0 Inhibits Node2
Node1 Inhibits Node5
Node2 Inhibits Node5
Writing sif file to: F:/biocbuild/bbs-3.20-bioc/tmpdir/Rtmpy0sPKL/corExplainedNodes-file28105afa1f9c.sif
Writing annotation file to: F:/biocbuild/bbs-3.20-bioc/tmpdir/Rtmpy0sPKL/corExplainedNodes-file28105afa1f9c_anno.txt
corExplainedNodes
Node0 Activates Node1
Writing sif file to: F:/biocbuild/bbs-3.20-bioc/tmpdir/Rtmpy0sPKL/incorExplainedNodes-file28105afa1f9c.sif
Writing annotation file to: F:/biocbuild/bbs-3.20-bioc/tmpdir/Rtmpy0sPKL/incorExplainedNodes-file28105afa1f9c_anno.txt
incorExplainedNodes
Node0 Inhibits Node2
Writing sif file to: F:/biocbuild/bbs-3.20-bioc/tmpdir/Rtmpy0sPKL/ambExplainedNodes-file28105afa1f9c.sif
Writing annotation file to: F:/biocbuild/bbs-3.20-bioc/tmpdir/Rtmpy0sPKL/ambExplainedNodes-file28105afa1f9c_anno.txt
ambExplainedNodes
Writing sif file to: F:/biocbuild/bbs-3.20-bioc/tmpdir/Rtmpy0sPKL/corExplainedNodes-file28103eb5441e.sif
Writing annotation file to: F:/biocbuild/bbs-3.20-bioc/tmpdir/Rtmpy0sPKL/corExplainedNodes-file28103eb5441e_anno.txt
corExplainedNodes
Node0 Activates Node1
Node0 Inhibits Node2
Node1 Activates Node3
Node2 Activates Node6
Node2 Activates Node7
Writing sif file to: F:/biocbuild/bbs-3.20-bioc/tmpdir/Rtmpy0sPKL/incorExplainedNodes-file28103eb5441e.sif
Writing annotation file to: F:/biocbuild/bbs-3.20-bioc/tmpdir/Rtmpy0sPKL/incorExplainedNodes-file28103eb5441e_anno.txt
incorExplainedNodes
Node0 Inhibits Node2
Writing sif file to: F:/biocbuild/bbs-3.20-bioc/tmpdir/Rtmpy0sPKL/ambExplainedNodes-file28103eb5441e.sif
Writing annotation file to: F:/biocbuild/bbs-3.20-bioc/tmpdir/Rtmpy0sPKL/ambExplainedNodes-file28103eb5441e_anno.txt
ambExplainedNodes
Node0 Activates Node1
Node0 Inhibits Node2
Node1 Inhibits Node5
Node2 Inhibits Node5
Writing sif file to: F:/biocbuild/bbs-3.20-bioc/tmpdir/Rtmpy0sPKL-329492264/corExplainedNodes-file28104eb555a4.sif
Writing annotation file to: F:/biocbuild/bbs-3.20-bioc/tmpdir/Rtmpy0sPKL-329492264/corExplainedNodes-file28104eb555a4_anno.txt
corExplainedNodes
Node0 Activates Node1
Node0 Inhibits Node2
Node1 Activates Node3
Node2 Activates Node6
Node2 Activates Node7
Writing sif file to: F:/biocbuild/bbs-3.20-bioc/tmpdir/Rtmpy0sPKL-418041265/corExplainedNodes-testNetwork1-testData1-delta2-Node0+.sif
Writing annotation file to: F:/biocbuild/bbs-3.20-bioc/tmpdir/Rtmpy0sPKL-418041265/corExplainedNodes-testNetwork1-testData1-delta2-Node0+_anno.txt
corExplainedNodes
Node0 Activates Node1
Node0 Inhibits Node2
Node1 Activates Node3
Node2 Activates Node6
Node2 Activates Node7
Writing sif file to: F:/biocbuild/bbs-3.20-bioc/tmpdir/Rtmpy0sPKL-23568624/corExplainedNodes-testNetwork1-testData1-delta2-Node0+.sif
Writing annotation file to: F:/biocbuild/bbs-3.20-bioc/tmpdir/Rtmpy0sPKL-23568624/corExplainedNodes-testNetwork1-testData1-delta2-Node0+_anno.txt
corExplainedNodes
Node0 Activates Node1
Node0 Inhibits Node2
Node1 Activates Node3
Node2 Activates Node6
Node2 Activates Node7
Writing sif file to: F:/biocbuild/bbs-3.20-bioc/tmpdir/Rtmpy0sPKL-23568624/incorExplainedNodes-testNetwork1-testData1-delta2-Node0+.sif
Writing annotation file to: F:/biocbuild/bbs-3.20-bioc/tmpdir/Rtmpy0sPKL-23568624/incorExplainedNodes-testNetwork1-testData1-delta2-Node0+_anno.txt
incorExplainedNodes
Node0 Inhibits Node2
Writing sif file to: F:/biocbuild/bbs-3.20-bioc/tmpdir/Rtmpy0sPKL-23568624/ambExplainedNodes-testNetwork1-testData1-delta2-Node0+.sif
Writing annotation file to: F:/biocbuild/bbs-3.20-bioc/tmpdir/Rtmpy0sPKL-23568624/ambExplainedNodes-testNetwork1-testData1-delta2-Node0+_anno.txt
ambExplainedNodes
Node0 Activates Node1
Node0 Inhibits Node2
Node1 Inhibits Node5
Node2 Inhibits Node5
RUNIT TEST PROTOCOL -- Mon Mar 31 23:45:32 2025
***********************************************
Number of test functions: 129
Number of errors: 0
Number of failures: 0
1 Test Suite :
CausalR RUnit Tests - 129 test functions, 0 errors, 0 failures
Number of test functions: 129
Number of errors: 0
Number of failures: 0
Warning messages:
1: In file(file, "rt") :
cannot open file 'nonExistentFile.sif': No such file or directory
2: In file(file, "rt") :
cannot open file 'nonExistentFile.sif': No such file or directory
>
> proc.time()
user system elapsed
2.18 0.50 12.11
CausalR.Rcheck/CausalR-Ex.timings
| name | user | system | elapsed | |
| AnalysePredictionsList | 0.04 | 0.00 | 0.05 | |
| CalculateEnrichmentPValue | 0 | 0 | 0 | |
| CalculateSignificance | 0.03 | 0.01 | 0.05 | |
| CalculateSignificanceUsingCubicAlgorithm | 0.03 | 0.00 | 0.03 | |
| CalculateSignificanceUsingCubicAlgorithm1b | 0.03 | 0.00 | 0.03 | |
| CalculateSignificanceUsingQuarticAlgorithm | 0.03 | 0.00 | 0.04 | |
| CompareHypothesis | 0 | 0 | 0 | |
| CreateCCG | 0.02 | 0.00 | 0.01 | |
| CreateCG | 0 | 0 | 0 | |
| GetNodeName | 0.00 | 0.02 | 0.02 | |
| GetNumberOfPositiveAndNegativeEntries | 0 | 0 | 0 | |
| GetShortestPathsFromCCG | 0.01 | 0.00 | 0.01 | |
| MakePredictions | 0 | 0 | 0 | |
| MakePredictionsFromCCG | 0.02 | 0.00 | 0.02 | |
| MakePredictionsFromCG | 0.03 | 0.00 | 0.03 | |
| PlotGraphWithNodeNames | 0.08 | 0.00 | 0.14 | |
| RankTheHypotheses | 0.12 | 0.03 | 0.72 | |
| ReadExperimentalData | 0.00 | 0.01 | 0.01 | |
| ScoreHypothesis | 0.06 | 0.00 | 0.07 | |
| WriteAllExplainedNodesToSifFile | 0.07 | 0.02 | 1.09 | |
| WriteExplainedNodesToSifFile | 0.06 | 0.00 | 0.06 | |
| runSCANR | 0.34 | 0.06 | 1.49 | |