Package: Category Version: 2.72.0 Command: F:\biocbuild\bbs-3.20-bioc\R\bin\R.exe CMD INSTALL Category StartedAt: 2025-03-31 16:35:26 -0400 (Mon, 31 Mar 2025) EndedAt: 2025-03-31 16:36:35 -0400 (Mon, 31 Mar 2025) EllapsedTime: 68.6 seconds RetCode: 0 Status: OK