Package: Category Version: 2.72.0 Command: F:\biocbuild\bbs-3.20-bioc\R\bin\R.exe CMD check --no-multiarch --install=check:Category.install-out.txt --library=F:\biocbuild\bbs-3.20-bioc\R\library --no-vignettes --timings Category_2.72.0.tar.gz StartedAt: 2025-03-31 23:43:39 -0400 (Mon, 31 Mar 2025) EndedAt: 2025-03-31 23:49:49 -0400 (Mon, 31 Mar 2025) EllapsedTime: 369.5 seconds RetCode: 0 Status: OK CheckDir: Category.Rcheck Warnings: 0