Package: Category Version: 2.72.0 Command: /Library/Frameworks/R.framework/Resources/bin/R CMD check --install=check:Category.install-out.txt --library=/Library/Frameworks/R.framework/Resources/library --no-vignettes --timings Category_2.72.0.tar.gz StartedAt: 2025-04-01 00:20:19 -0400 (Tue, 01 Apr 2025) EndedAt: 2025-04-01 00:27:40 -0400 (Tue, 01 Apr 2025) EllapsedTime: 441.4 seconds RetCode: 0 Status: OK CheckDir: Category.Rcheck Warnings: 0