Package: Category Version: 2.72.0 Command: /Library/Frameworks/R.framework/Resources/bin/R CMD INSTALL Category StartedAt: 2025-03-31 17:12:30 -0400 (Mon, 31 Mar 2025) EndedAt: 2025-03-31 17:12:56 -0400 (Mon, 31 Mar 2025) EllapsedTime: 26.0 seconds RetCode: 0 Status: OK