Package: Cardinal Version: 3.8.3 Command: /home/biocbuild/R/R/bin/R CMD build --keep-empty-dirs --no-resave-data Cardinal StartedAt: 2025-03-31 22:06:19 -0000 (Mon, 31 Mar 2025) EndedAt: 2025-03-31 22:16:25 -0000 (Mon, 31 Mar 2025) EllapsedTime: 606.2 seconds RetCode: 0 Status: OK PackageFile: Cardinal_3.8.3.tar.gz PackageFileSize: 2.597 MiB