Package: Cardinal Version: 3.8.3 Command: chmod a+r Cardinal -R && F:\biocbuild\bbs-3.20-bioc\R\bin\R.exe CMD build --keep-empty-dirs --no-resave-data Cardinal StartedAt: 2025-03-31 17:47:10 -0400 (Mon, 31 Mar 2025) EndedAt: 2025-03-31 17:56:54 -0400 (Mon, 31 Mar 2025) EllapsedTime: 583.4 seconds RetCode: 0 Status: OK PackageFile: Cardinal_3.8.3.tar.gz PackageFileSize: 1.883 MiB