Package: Cardinal Version: 3.8.3 Command: rm -rf Cardinal.buildbin-libdir && mkdir Cardinal.buildbin-libdir && F:\biocbuild\bbs-3.20-bioc\R\bin\R.exe CMD INSTALL --build --library=Cardinal.buildbin-libdir Cardinal_3.8.3.tar.gz StartedAt: 2025-04-01 07:49:25 -0400 (Tue, 01 Apr 2025) EndedAt: 2025-04-01 07:52:24 -0400 (Tue, 01 Apr 2025) EllapsedTime: 178.9 seconds RetCode: 0 Status: OK PackageFile: Cardinal_3.8.3.zip PackageFileSize: 3.368 MiB