Package: Cardinal Version: 3.8.3 Command: /home/biocbuild/bbs-3.20-bioc/R/bin/R CMD build --keep-empty-dirs --no-resave-data --md5 Cardinal StartedAt: 2025-03-31 16:31:56 -0400 (Mon, 31 Mar 2025) EndedAt: 2025-03-31 16:38:27 -0400 (Mon, 31 Mar 2025) EllapsedTime: 391.4 seconds RetCode: 0 Status: OK PackageFile: Cardinal_3.8.3.tar.gz PackageFileSize: 5.187 MiB