Package: CaMutQC Version: 1.2.0 Command: chmod a+r CaMutQC -R && F:\biocbuild\bbs-3.20-bioc\R\bin\R.exe CMD build --keep-empty-dirs --no-resave-data CaMutQC StartedAt: 2025-03-31 17:46:14 -0400 (Mon, 31 Mar 2025) EndedAt: 2025-03-31 17:47:46 -0400 (Mon, 31 Mar 2025) EllapsedTime: 92.6 seconds RetCode: 0 Status: OK PackageFile: CaMutQC_1.2.0.tar.gz PackageFileSize: 4.843 MiB