Package: CaMutQC Version: 1.2.0 Command: rm -rf CaMutQC.buildbin-libdir && mkdir CaMutQC.buildbin-libdir && /Users/biocbuild/BBS/utils/build-universal.sh CaMutQC_1.2.0.tar.gz /Library/Frameworks/R.framework/Resources/bin/R CaMutQC.buildbin-libdir StartedAt: 2025-04-01 11:32:18 -0400 (Tue, 01 Apr 2025) EndedAt: 2025-04-01 11:33:21 -0400 (Tue, 01 Apr 2025) EllapsedTime: 63.5 seconds RetCode: 0 Status: OK PackageFile: CaMutQC_1.2.0.tgz PackageFileSize: 4.117 MiB