Package: CaMutQC Version: 1.2.0 Command: /Library/Frameworks/R.framework/Resources/bin/R CMD INSTALL CaMutQC StartedAt: 2025-03-31 17:18:53 -0400 (Mon, 31 Mar 2025) EndedAt: 2025-03-31 17:19:23 -0400 (Mon, 31 Mar 2025) EllapsedTime: 29.8 seconds RetCode: 0 Status: OK