Package: CaDrA Version: 1.4.0 Command: /home/biocbuild/R/R/bin/R CMD check --install=check:CaDrA.install-out.txt --library=/home/biocbuild/R/R/site-library --no-vignettes --timings CaDrA_1.4.0.tar.gz StartedAt: 2025-04-01 04:42:08 -0000 (Tue, 01 Apr 2025) EndedAt: 2025-04-01 04:50:28 -0000 (Tue, 01 Apr 2025) EllapsedTime: 499.3 seconds RetCode: 0 Status: WARNINGS CheckDir: CaDrA.Rcheck Warnings: 1