Package: CaDrA Version: 1.4.0 Command: F:\biocbuild\bbs-3.20-bioc\R\bin\R.exe CMD check --no-multiarch --install=check:CaDrA.install-out.txt --library=F:\biocbuild\bbs-3.20-bioc\R\library --no-vignettes --timings CaDrA_1.4.0.tar.gz StartedAt: 2025-03-31 23:39:26 -0400 (Mon, 31 Mar 2025) EndedAt: 2025-03-31 23:48:20 -0400 (Mon, 31 Mar 2025) EllapsedTime: 534.1 seconds RetCode: 0 Status: OK CheckDir: CaDrA.Rcheck Warnings: 0