Package: CaDrA Version: 1.4.0 Command: /home/biocbuild/bbs-3.20-bioc/R/bin/R CMD check --install=check:CaDrA.install-out.txt --library=/home/biocbuild/bbs-3.20-bioc/R/site-library --timings CaDrA_1.4.0.tar.gz StartedAt: 2025-03-31 20:25:53 -0400 (Mon, 31 Mar 2025) EndedAt: 2025-03-31 20:34:54 -0400 (Mon, 31 Mar 2025) EllapsedTime: 541.5 seconds RetCode: 0 Status: OK CheckDir: CaDrA.Rcheck Warnings: 0