Package: CTexploreR Version: 1.2.0 Command: /home/biocbuild/R/R/bin/R CMD check --install=check:CTexploreR.install-out.txt --library=/home/biocbuild/R/R/site-library --no-vignettes --timings CTexploreR_1.2.0.tar.gz StartedAt: 2025-04-01 05:30:52 -0000 (Tue, 01 Apr 2025) EndedAt: 2025-04-01 05:59:21 -0000 (Tue, 01 Apr 2025) EllapsedTime: 1708.8 seconds RetCode: 0 Status: OK CheckDir: CTexploreR.Rcheck Warnings: 0