Package: CTexploreR Version: 1.2.0 Command: rm -rf CTexploreR.buildbin-libdir && mkdir CTexploreR.buildbin-libdir && F:\biocbuild\bbs-3.20-bioc\R\bin\R.exe CMD INSTALL --build --library=CTexploreR.buildbin-libdir CTexploreR_1.2.0.tar.gz StartedAt: 2025-04-01 08:00:04 -0400 (Tue, 01 Apr 2025) EndedAt: 2025-04-01 08:04:36 -0400 (Tue, 01 Apr 2025) EllapsedTime: 272.0 seconds RetCode: 0 Status: OK PackageFile: CTexploreR_1.2.0.zip PackageFileSize: 7.949 MiB