Package: CTexploreR Version: 1.2.0 Command: /Library/Frameworks/R.framework/Resources/bin/R CMD check --install=check:CTexploreR.install-out.txt --library=/Library/Frameworks/R.framework/Resources/library --no-vignettes --timings CTexploreR_1.2.0.tar.gz StartedAt: 2025-04-01 16:01:14 -0400 (Tue, 01 Apr 2025) EndedAt: 2025-04-01 16:39:50 -0400 (Tue, 01 Apr 2025) EllapsedTime: 2315.8 seconds RetCode: 0 Status: OK CheckDir: CTexploreR.Rcheck Warnings: 0