Package: CTdata Version: 1.6.0 Command: rm -rf CTdata.buildbin-libdir && mkdir CTdata.buildbin-libdir && F:\biocbuild\bbs-3.20-bioc\R\bin\R.exe CMD INSTALL --build --library=CTdata.buildbin-libdir CTdata_1.6.0.tar.gz StartedAt: 2025-04-01 07:59:56 -0400 (Tue, 01 Apr 2025) EndedAt: 2025-04-01 08:00:35 -0400 (Tue, 01 Apr 2025) EllapsedTime: 38.5 seconds RetCode: 0 Status: OK PackageFile: CTdata_1.6.0.zip PackageFileSize: 6.446 MiB