Package: CTdata Version: 1.6.0 Command: /Library/Frameworks/R.framework/Resources/bin/R CMD INSTALL CTdata StartedAt: 2025-03-31 15:28:31 -0400 (Mon, 31 Mar 2025) EndedAt: 2025-03-31 15:29:09 -0400 (Mon, 31 Mar 2025) EllapsedTime: 38.4 seconds RetCode: 0 Status: OK