Package: CTdata Version: 1.6.0 Command: /Library/Frameworks/R.framework/Resources/bin/R CMD build --keep-empty-dirs --no-resave-data CTdata StartedAt: 2025-03-31 18:00:37 -0400 (Mon, 31 Mar 2025) EndedAt: 2025-03-31 18:08:44 -0400 (Mon, 31 Mar 2025) EllapsedTime: 486.6 seconds RetCode: 0 Status: OK PackageFile: CTdata_1.6.0.tar.gz PackageFileSize: 6.97 MiB