Package: CTSV Version: 1.8.0 Command: /Library/Frameworks/R.framework/Resources/bin/R CMD check --install=check:CTSV.install-out.txt --library=/Library/Frameworks/R.framework/Resources/library --no-vignettes --timings CTSV_1.8.0.tar.gz StartedAt: 2025-04-01 01:28:38 -0400 (Tue, 01 Apr 2025) EndedAt: 2025-04-01 01:36:20 -0400 (Tue, 01 Apr 2025) EllapsedTime: 461.5 seconds RetCode: 0 Status: OK CheckDir: CTSV.Rcheck Warnings: 0