Package: CTDquerier Version: 2.14.0 Command: /home/biocbuild/R/R/bin/R CMD INSTALL CTDquerier StartedAt: 2025-03-31 20:25:16 -0000 (Mon, 31 Mar 2025) EndedAt: 2025-03-31 20:25:27 -0000 (Mon, 31 Mar 2025) EllapsedTime: 11.1 seconds RetCode: 0 Status: OK